BEGIN:VCALENDAR
VERSION:2.0
PRODID:Events Booking
BEGIN:VEVENT
UID:69e750677071d
SUMMARY:Healthy St. Pete Shuffleboard Tournament
DESCRIPTION:Join us for a delightful 4-week Shuffleboard Series tailored fo
 r seniors! Come and discover the joy of Shuffleboard while connecting with
  fellow seniors in a fun and social atmosphere. It’s a fantastic opportu
 nity to stay active\, sharpen your skills\, and enjoy some friendly compet
 ition. Don’t miss out on the chance to shuffle your way to fun and frien
 dship! Sign up here. 
LOCATION:559 Mirror Lake Drive North\, Saint Petersburg\, 33701 Florida\, U
 nited States
DTSTART:20240410T000000Z
DTEND:20240501T000000Z
DTSTAMP:20240423T185025Z
ORGANIZER;CN=Active Aging Through Play:MAILTO:dd1v1jpf2yiw@localhost
GEO:27.775609;-82.641266
X-APPLE-STRUCTURED-LOCATION;VALUE=URI;X-ADDRESS=559 Mirror Lake Drive North
 \, Saint Petersburg\, 33701 Florida\, United States;X-APPLE-RADIUS=72;X-TI
 TLE=St. Petersburg Shuffleboard Club:27.775609;-82.641266
END:VEVENT
END:VCALENDAR